BEGIN:VCALENDAR
VERSION:2.0
PRODID:icalendar-ruby
CALSCALE:GREGORIAN
METHOD:PUBLISH
BEGIN:VEVENT
DTSTAMP:20260424T165028Z
UID:246-608351@bacfamily.org
DTSTART:20260515T163000Z
DTEND:20260515T181500Z
CLASS:PUBLIC
CREATED:20260423T175336
DESCRIPTION:
LAST-MODIFIED:20260423T175336
LOCATION:教會附堂二樓
SUMMARY:常青坊 - 2026年5月活動
URL;VALUE=URI:https://www.bacfamily.org/events/2026-5/2026-05-15
ATTACH;FILENAME=常青坊2026年5月週會表.JPG;FMTTYPE=image/jpeg:https:
 //dq5pwpg1q8ru0.cloudfront.net/2026/04/24/00/53/36/ee2afbad-25f2-45fd-88c5
 -2144ec262c4a/%E5%B8%B8%E9%9D%92%E5%9D%8A2026%E5%B9%B45%E6%9C%88%E9%80%B1%
 E6%9C%83%E8%A1%A8.JPG
ATTACH;FILENAME=常青坊2026年5月1日event poster.pdf;FMTTYPE=applicatio
 n/pdf:https://dq5pwpg1q8ru0.cloudfront.net/2026/04/24/00/53/35/af935cc0-fd
 6e-4ce2-abe0-c0e811260bcd/%E5%B8%B8%E9%9D%92%E5%9D%8A2026%E5%B9%B45%E6%9C%
 881%E6%97%A5event%20poster.pdf
ATTACH;FILENAME=常青坊2026年5月15日event poster.pdf;FMTTYPE=applicati
 on/pdf:https://dq5pwpg1q8ru0.cloudfront.net/2026/04/24/00/53/35/9dbb7554-6
 029-4b2e-aeb8-8fefaf4feeed/%E5%B8%B8%E9%9D%92%E5%9D%8A2026%E5%B9%B45%E6%9C
 %8815%E6%97%A5event%20poster.pdf
END:VEVENT
END:VCALENDAR
