BEGIN:VCALENDAR
VERSION:2.0
PRODID:icalendar-ruby
CALSCALE:GREGORIAN
METHOD:PUBLISH
BEGIN:VEVENT
DTSTAMP:20260422T142854Z
UID:245-603992@bacfamily.org
DTSTART;VALUE=DATE:20260810
DTEND;VALUE=DATE:20260814
CLASS:PUBLIC
CREATED:20260422T003206
DESCRIPTION:For kids going to grade 1 to 6 in Sept.\nCost: $180\nREGISTRATI
 ON OPENS MAY 1 @ 8PM
LAST-MODIFIED:20260422T003206
LOCATION:BAC Annex
SUMMARY:2026 Kids Summer Camp
URL;VALUE=URI:https://www.bacfamily.org/events/2026-kids-summer-camp/2026-0
 8-10
ATTACH;FILENAME=Camp_website.jpg;FMTTYPE=image/jpeg:https://dq5pwpg1q8ru0.c
 loudfront.net/2026/04/22/07/32/05/5fcfa78a-871e-44f4-9e74-4d5f1d24d07a/Cam
 p_website.jpg
END:VEVENT
END:VCALENDAR
